BEGIN:VCALENDAR
VERSION:2.0
PRODID:-//DA Kalka - ECPv6.0.12//NONSGML v1.0//EN
CALSCALE:GREGORIAN
METHOD:PUBLISH
X-WR-CALNAME:DA Kalka
X-ORIGINAL-URL:https://kalka.darshanacademy.org
X-WR-CALDESC:Events for DA Kalka
REFRESH-INTERVAL;VALUE=DURATION:PT1H
X-Robots-Tag:noindex
X-PUBLISHED-TTL:PT1H
BEGIN:VTIMEZONE
TZID:America/Los_Angeles
BEGIN:DAYLIGHT
TZOFFSETFROM:-0800
TZOFFSETTO:-0700
TZNAME:PDT
DTSTART:20230312T100000
END:DAYLIGHT
BEGIN:STANDARD
TZOFFSETFROM:-0700
TZOFFSETTO:-0800
TZNAME:PST
DTSTART:20231105T090000
END:STANDARD
BEGIN:DAYLIGHT
TZOFFSETFROM:-0800
TZOFFSETTO:-0700
TZNAME:PDT
DTSTART:20240310T100000
END:DAYLIGHT
BEGIN:STANDARD
TZOFFSETFROM:-0700
TZOFFSETTO:-0800
TZNAME:PST
DTSTART:20241103T090000
END:STANDARD
END:VTIMEZONE
BEGIN:VEVENT
DTSTART;TZID=America/Los_Angeles:20240326T000000
DTEND;TZID=America/Los_Angeles:20240326T000000
DTSTAMP:20260422T194057
CREATED:20230510T045946Z
LAST-MODIFIED:20230510T045946Z
UID:4445-1711411200-1711411200@kalka.darshanacademy.org
SUMMARY:PTM (ALL CLASSES)
DESCRIPTION:
URL:https://kalka.darshanacademy.org/event/ptm-all-classes-4/
CATEGORIES:PTM
END:VEVENT
BEGIN:VEVENT
DTSTART;TZID=America/Los_Angeles:20231216T000000
DTEND;TZID=America/Los_Angeles:20231216T000000
DTSTAMP:20260422T194057
CREATED:20230510T045920Z
LAST-MODIFIED:20230510T045920Z
UID:4425-1702684800-1702684800@kalka.darshanacademy.org
SUMMARY:PTM (ALL CLASSES)
DESCRIPTION:
URL:https://kalka.darshanacademy.org/event/ptm-all-classes-3/
CATEGORIES:PTM
END:VEVENT
BEGIN:VEVENT
DTSTART;TZID=America/Los_Angeles:20230930T000000
DTEND;TZID=America/Los_Angeles:20230930T000000
DTSTAMP:20260422T194057
CREATED:20230510T045819Z
LAST-MODIFIED:20230510T045819Z
UID:4404-1696032000-1696032000@kalka.darshanacademy.org
SUMMARY:PTM (ALL CLASSES)
DESCRIPTION:
URL:https://kalka.darshanacademy.org/event/ptm-all-classes-2/
CATEGORIES:PTM
END:VEVENT
BEGIN:VEVENT
DTSTART;TZID=America/Los_Angeles:20230722T000000
DTEND;TZID=America/Los_Angeles:20230722T000000
DTSTAMP:20260422T194057
CREATED:20230510T045729Z
LAST-MODIFIED:20230510T045729Z
UID:4380-1689984000-1689984000@kalka.darshanacademy.org
SUMMARY:PTM (ALL CLASSES)
DESCRIPTION:
URL:https://kalka.darshanacademy.org/event/ptm-all-classes/
CATEGORIES:PTM
END:VEVENT
BEGIN:VEVENT
DTSTART;TZID=America/Los_Angeles:20230520T000000
DTEND;TZID=America/Los_Angeles:20230520T000000
DTSTAMP:20260422T194057
CREATED:20230510T045338Z
LAST-MODIFIED:20230510T045338Z
UID:4364-1684540800-1684540800@kalka.darshanacademy.org
SUMMARY:PTM (NUR - V)
DESCRIPTION:
URL:https://kalka.darshanacademy.org/event/ptm-nur-v/
CATEGORIES:PTM
END:VEVENT
BEGIN:VEVENT
DTSTART;TZID=America/Los_Angeles:20230406T000000
DTEND;TZID=America/Los_Angeles:20230406T000000
DTSTAMP:20260422T194057
CREATED:20230510T044409Z
LAST-MODIFIED:20230510T044409Z
UID:4348-1680739200-1680739200@kalka.darshanacademy.org
SUMMARY:PTM (NUR - KG)
DESCRIPTION:
URL:https://kalka.darshanacademy.org/event/ptm-nur-kg/
CATEGORIES:PTM
END:VEVENT
END:VCALENDAR