BEGIN:VCALENDAR
VERSION:2.0
PRODID:-//DA Kalka - ECPv6.0.12//NONSGML v1.0//EN
CALSCALE:GREGORIAN
METHOD:PUBLISH
X-ORIGINAL-URL:https://kalka.darshanacademy.org
X-WR-CALDESC:Events for DA Kalka
REFRESH-INTERVAL;VALUE=DURATION:PT1H
X-Robots-Tag:noindex
X-PUBLISHED-TTL:PT1H
BEGIN:VTIMEZONE
TZID:America/Los_Angeles
BEGIN:DAYLIGHT
TZOFFSETFROM:-0800
TZOFFSETTO:-0700
TZNAME:PDT
DTSTART:20230312T100000
END:DAYLIGHT
BEGIN:STANDARD
TZOFFSETFROM:-0700
TZOFFSETTO:-0800
TZNAME:PST
DTSTART:20231105T090000
END:STANDARD
END:VTIMEZONE
BEGIN:VEVENT
DTSTART;TZID=America/Los_Angeles:20230727T000000
DTEND;TZID=America/Los_Angeles:20230727T000000
DTSTAMP:20260421T062829
CREATED:20230510T045729Z
LAST-MODIFIED:20230510T045729Z
UID:4381-1690416000-1690416000@kalka.darshanacademy.org
SUMMARY:ZONAL WORKSHOP OF FOUNDATIONAL LITERACY AND NUMERACY FOR MOTHER TEACHER CLASSES (I & II)
DESCRIPTION:
URL:https://kalka.darshanacademy.org/event/zonal-workshop-of-foundational-literacy-and-numeracy-for-mother-teacher-classes-i-ii/
CATEGORIES:PROFESSIONAL DEVELOPMENT PROGRAMMME
END:VEVENT
BEGIN:VEVENT
DTSTART;TZID=America/Los_Angeles:20230705T000000
DTEND;TZID=America/Los_Angeles:20230705T000000
DTSTAMP:20260421T062829
CREATED:20230510T045729Z
LAST-MODIFIED:20230510T045729Z
UID:4377-1688515200-1688515200@kalka.darshanacademy.org
SUMMARY:INTERNAL SPIRITUAL TALK FOR PARENTS
DESCRIPTION:
URL:https://kalka.darshanacademy.org/event/internal-spiritual-talk-for-parents/
CATEGORIES:PROFESSIONAL DEVELOPMENT PROGRAMMME
END:VEVENT
BEGIN:VEVENT
DTSTART;TZID=America/Los_Angeles:20230628T000000
DTEND;TZID=America/Los_Angeles:20230629T000000
DTSTAMP:20260421T062829
CREATED:20230510T045724Z
LAST-MODIFIED:20230510T045724Z
UID:4373-1687910400-1687996800@kalka.darshanacademy.org
SUMMARY:INTERNAL WORKSHOP ON METHODOLOGY
DESCRIPTION:
URL:https://kalka.darshanacademy.org/event/internal-workshop-on-methodology/
CATEGORIES:PROFESSIONAL DEVELOPMENT PROGRAMMME
END:VEVENT
BEGIN:VEVENT
DTSTART;TZID=America/Los_Angeles:20230622T000000
DTEND;TZID=America/Los_Angeles:20230624T000000
DTSTAMP:20260421T062829
CREATED:20230510T045724Z
LAST-MODIFIED:20230510T045724Z
UID:4372-1687392000-1687564800@kalka.darshanacademy.org
SUMMARY:NATIONAL WORKSHOP OF PRINCIPALS / HEADS / SENIOR COORDINATORS
DESCRIPTION:
URL:https://kalka.darshanacademy.org/event/national-workshop-of-principals-heads-senior-coordinators/
CATEGORIES:PROFESSIONAL DEVELOPMENT PROGRAMMME
END:VEVENT
BEGIN:VEVENT
DTSTART;TZID=America/Los_Angeles:20230603T000000
DTEND;TZID=America/Los_Angeles:20230603T000000
DTSTAMP:20260421T062829
CREATED:20230510T045354Z
LAST-MODIFIED:20230510T045354Z
UID:4370-1685750400-1685750400@kalka.darshanacademy.org
SUMMARY:NATIONAL WORKSHOP OF TEACHER TRAINER OF SPIRITUAL CURRICULUM
DESCRIPTION:
URL:https://kalka.darshanacademy.org/event/national-workshop-of-teacher-trainer-of-spiritual-curriculum/
CATEGORIES:PROFESSIONAL DEVELOPMENT PROGRAMMME
END:VEVENT
BEGIN:VEVENT
DTSTART;TZID=America/Los_Angeles:20230601T000000
DTEND;TZID=America/Los_Angeles:20230602T000000
DTSTAMP:20260421T062829
CREATED:20230510T045354Z
LAST-MODIFIED:20230510T045354Z
UID:4369-1685577600-1685664000@kalka.darshanacademy.org
SUMMARY:INTERNAL WORKSHOP ON DEMONSTRATION LESSONS
DESCRIPTION:
URL:https://kalka.darshanacademy.org/event/internal-workshop-on-demonstration-lessons/
CATEGORIES:PROFESSIONAL DEVELOPMENT PROGRAMMME
END:VEVENT
BEGIN:VEVENT
DTSTART;TZID=America/Los_Angeles:20230522T000000
DTEND;TZID=America/Los_Angeles:20230522T000000
DTSTAMP:20260421T062829
CREATED:20230510T045338Z
LAST-MODIFIED:20230510T045338Z
UID:4365-1684713600-1684713600@kalka.darshanacademy.org
SUMMARY:LOG ON TO ONLINE SPIRITUAL CURRICULUM COURSE FOR NEW TEACHERS
DESCRIPTION:
URL:https://kalka.darshanacademy.org/event/log-on-to-online-spiritual-curriculum-course-for-new-teachers/
CATEGORIES:PROFESSIONAL DEVELOPMENT PROGRAMMME
END:VEVENT
BEGIN:VEVENT
DTSTART;TZID=America/Los_Angeles:20230519T000000
DTEND;TZID=America/Los_Angeles:20230520T000000
DTSTAMP:20260421T062829
CREATED:20230510T045338Z
LAST-MODIFIED:20230510T045338Z
UID:4362-1684454400-1684540800@kalka.darshanacademy.org
SUMMARY:NATIONAL WORKSHOP OF SPIRITUAL CURRICULUM ON TEACHING TIPS
DESCRIPTION:
URL:https://kalka.darshanacademy.org/event/national-workshop-of-spiritual-curriculum-on-teaching-tips/
CATEGORIES:PROFESSIONAL DEVELOPMENT PROGRAMMME
END:VEVENT
BEGIN:VEVENT
DTSTART;TZID=America/Los_Angeles:20230502T000000
DTEND;TZID=America/Los_Angeles:20230502T000000
DTSTAMP:20260421T062829
CREATED:20230510T045327Z
LAST-MODIFIED:20230510T045327Z
UID:4359-1682985600-1682985600@kalka.darshanacademy.org
SUMMARY:INTERNAL SPIRITUAL TALK FOR TEACHERS
DESCRIPTION:
URL:https://kalka.darshanacademy.org/event/internal-spiritual-talk-for-teachers/
CATEGORIES:PROFESSIONAL DEVELOPMENT PROGRAMMME
END:VEVENT
BEGIN:VEVENT
DTSTART;TZID=America/Los_Angeles:20230415T000000
DTEND;TZID=America/Los_Angeles:20230415T000000
DTSTAMP:20260421T062829
CREATED:20230510T044433Z
LAST-MODIFIED:20230510T044433Z
UID:4353-1681516800-1681516800@kalka.darshanacademy.org
SUMMARY:INTERNAL SPIRITUAL TALK FOR STUDENTS
DESCRIPTION:
URL:https://kalka.darshanacademy.org/event/internal-spiritual-talk-for-students/
CATEGORIES:PROFESSIONAL DEVELOPMENT PROGRAMMME
END:VEVENT
END:VCALENDAR