BEGIN:VCALENDAR
VERSION:2.0
PRODID:-//DA Kalka - ECPv6.0.12//NONSGML v1.0//EN
CALSCALE:GREGORIAN
METHOD:PUBLISH
X-WR-CALNAME:DA Kalka
X-ORIGINAL-URL:https://kalka.darshanacademy.org
X-WR-CALDESC:Events for DA Kalka
REFRESH-INTERVAL;VALUE=DURATION:PT1H
X-Robots-Tag:noindex
X-PUBLISHED-TTL:PT1H
BEGIN:VTIMEZONE
TZID:America/Los_Angeles
BEGIN:DAYLIGHT
TZOFFSETFROM:-0800
TZOFFSETTO:-0700
TZNAME:PDT
DTSTART:20220313T100000
END:DAYLIGHT
BEGIN:STANDARD
TZOFFSETFROM:-0700
TZOFFSETTO:-0800
TZNAME:PST
DTSTART:20221106T090000
END:STANDARD
BEGIN:DAYLIGHT
TZOFFSETFROM:-0800
TZOFFSETTO:-0700
TZNAME:PDT
DTSTART:20230312T100000
END:DAYLIGHT
BEGIN:STANDARD
TZOFFSETFROM:-0700
TZOFFSETTO:-0800
TZNAME:PST
DTSTART:20231105T090000
END:STANDARD
END:VTIMEZONE
BEGIN:VEVENT
DTSTART;TZID=America/Los_Angeles:20230929T000000
DTEND;TZID=America/Los_Angeles:20230929T000000
DTSTAMP:20260422T173109
CREATED:20230510T045819Z
LAST-MODIFIED:20230510T045819Z
UID:4403-1695945600-1695945600@kalka.darshanacademy.org
SUMMARY:ID-E-MILAD
DESCRIPTION:
URL:https://kalka.darshanacademy.org/event/id-e-milad/
CATEGORIES:HOLIDAY
END:VEVENT
BEGIN:VEVENT
DTSTART;TZID=America/Los_Angeles:20230923T000000
DTEND;TZID=America/Los_Angeles:20230923T000000
DTSTAMP:20260422T173109
CREATED:20230510T045803Z
LAST-MODIFIED:20230510T045803Z
UID:4401-1695427200-1695427200@kalka.darshanacademy.org
SUMMARY:HARYANA SHAHEEDI DIWAS
DESCRIPTION:
URL:https://kalka.darshanacademy.org/event/haryana-shaheedi-diwas/
CATEGORIES:HOLIDAY
END:VEVENT
BEGIN:VEVENT
DTSTART;TZID=America/Los_Angeles:20230920T000000
DTEND;TZID=America/Los_Angeles:20230920T000000
DTSTAMP:20260422T173109
CREATED:20230510T045803Z
LAST-MODIFIED:20230510T045803Z
UID:4398-1695168000-1695168000@kalka.darshanacademy.org
SUMMARY:BIRTHDAY OF SANT RAJINDER SINGH JI MAHARAJ
DESCRIPTION:
URL:https://kalka.darshanacademy.org/event/birthday-of-sant-rajinder-singh-ji-maharaj/
CATEGORIES:HOLIDAY
END:VEVENT
BEGIN:VEVENT
DTSTART;TZID=America/Los_Angeles:20230914T000000
DTEND;TZID=America/Los_Angeles:20230914T000000
DTSTAMP:20260422T173109
CREATED:20230510T045803Z
LAST-MODIFIED:20230510T045803Z
UID:4397-1694649600-1694649600@kalka.darshanacademy.org
SUMMARY:BIRTHDAY OF SANT DARSHAN SINGH JI MAHARAJ
DESCRIPTION:
URL:https://kalka.darshanacademy.org/event/birthday-of-sant-darshan-singh-ji-maharaj/
CATEGORIES:HOLIDAY
END:VEVENT
BEGIN:VEVENT
DTSTART;TZID=America/Los_Angeles:20230907T000000
DTEND;TZID=America/Los_Angeles:20230907T000000
DTSTAMP:20260422T173109
CREATED:20230510T045752Z
LAST-MODIFIED:20230510T045752Z
UID:4394-1694044800-1694044800@kalka.darshanacademy.org
SUMMARY:JANMASHTMI
DESCRIPTION:
URL:https://kalka.darshanacademy.org/event/janmashtmi/
CATEGORIES:HOLIDAY
END:VEVENT
BEGIN:VEVENT
DTSTART;TZID=America/Los_Angeles:20230830T000000
DTEND;TZID=America/Los_Angeles:20230830T000000
DTSTAMP:20260422T173109
CREATED:20230510T045743Z
LAST-MODIFIED:20230510T045743Z
UID:4391-1693353600-1693353600@kalka.darshanacademy.org
SUMMARY:RAKSHA BANDHAN
DESCRIPTION:
URL:https://kalka.darshanacademy.org/event/raksha-bandhan/
CATEGORIES:HOLIDAY
END:VEVENT
BEGIN:VEVENT
DTSTART;TZID=America/Los_Angeles:20230826T000000
DTEND;TZID=America/Los_Angeles:20230826T000000
DTSTAMP:20260422T173109
CREATED:20230510T045743Z
LAST-MODIFIED:20230510T045743Z
UID:4389-1693008000-1693008000@kalka.darshanacademy.org
SUMMARY:FOURTH SATURDAY
DESCRIPTION:
URL:https://kalka.darshanacademy.org/event/fourth-saturday-2/
CATEGORIES:HOLIDAY
END:VEVENT
BEGIN:VEVENT
DTSTART;TZID=America/Los_Angeles:20230819T000000
DTEND;TZID=America/Los_Angeles:20230819T000000
DTSTAMP:20260422T173110
CREATED:20230510T045742Z
LAST-MODIFIED:20230510T045742Z
UID:4387-1692403200-1692403200@kalka.darshanacademy.org
SUMMARY:HARYALI TEEJ
DESCRIPTION:
URL:https://kalka.darshanacademy.org/event/haryali-teej/
CATEGORIES:HOLIDAY
END:VEVENT
BEGIN:VEVENT
DTSTART;TZID=America/Los_Angeles:20230815T000000
DTEND;TZID=America/Los_Angeles:20230815T000000
DTSTAMP:20260422T173110
CREATED:20230510T045736Z
LAST-MODIFIED:20230510T045736Z
UID:4385-1692057600-1692057600@kalka.darshanacademy.org
SUMMARY:INDEPENDENCE DAY
DESCRIPTION:
URL:https://kalka.darshanacademy.org/event/independence-day/
CATEGORIES:HOLIDAY
END:VEVENT
BEGIN:VEVENT
DTSTART;TZID=America/Los_Angeles:20230731T000000
DTEND;TZID=America/Los_Angeles:20230731T000000
DTSTAMP:20260422T173110
CREATED:20230510T045736Z
LAST-MODIFIED:20230510T045736Z
UID:4382-1690761600-1690761600@kalka.darshanacademy.org
SUMMARY:SHAHEED UDHAM SINGH MARTYRDOM DAY
DESCRIPTION:
URL:https://kalka.darshanacademy.org/event/shaheed-udham-singh-martyrdom-day/
CATEGORIES:HOLIDAY
END:VEVENT
BEGIN:VEVENT
DTSTART;TZID=America/Los_Angeles:20230527T000000
DTEND;TZID=America/Los_Angeles:20230527T000000
DTSTAMP:20260422T173110
CREATED:20230510T045354Z
LAST-MODIFIED:20230510T045354Z
UID:4367-1685145600-1685145600@kalka.darshanacademy.org
SUMMARY:FOURTH SATURDAY
DESCRIPTION:
URL:https://kalka.darshanacademy.org/event/fourth-saturday/
CATEGORIES:HOLIDAY
END:VEVENT
BEGIN:VEVENT
DTSTART;TZID=America/Los_Angeles:20230505T000000
DTEND;TZID=America/Los_Angeles:20230505T000000
DTSTAMP:20260422T173110
CREATED:20230510T045327Z
LAST-MODIFIED:20230510T045327Z
UID:4360-1683244800-1683244800@kalka.darshanacademy.org
SUMMARY:BUDH PURNIMA
DESCRIPTION:
URL:https://kalka.darshanacademy.org/event/budh-purnima/
CATEGORIES:HOLIDAY
END:VEVENT
BEGIN:VEVENT
DTSTART;TZID=America/Los_Angeles:20230422T000000
DTEND;TZID=America/Los_Angeles:20230422T000000
DTSTAMP:20260422T173110
CREATED:20230510T044433Z
LAST-MODIFIED:20230510T044433Z
UID:4356-1682121600-1682121600@kalka.darshanacademy.org
SUMMARY:ID-UL-FITRE/ FOURTH SATURDAY
DESCRIPTION:
URL:https://kalka.darshanacademy.org/event/id-ul-fitre-fourth-saturday/
CATEGORIES:HOLIDAY
END:VEVENT
BEGIN:VEVENT
DTSTART;TZID=America/Los_Angeles:20230414T000000
DTEND;TZID=America/Los_Angeles:20230414T000000
DTSTAMP:20260422T173110
CREATED:20230510T044433Z
LAST-MODIFIED:20230510T044433Z
UID:4352-1681430400-1681430400@kalka.darshanacademy.org
SUMMARY:DR. B.R.AMBEDKAR JAYANTI
DESCRIPTION:
URL:https://kalka.darshanacademy.org/event/dr-b-r-ambedkar-jayanti/
CATEGORIES:HOLIDAY
END:VEVENT
BEGIN:VEVENT
DTSTART;TZID=America/Los_Angeles:20221101T000000
DTEND;TZID=America/Los_Angeles:20221101T000000
DTSTAMP:20260422T173110
CREATED:20230510T045908Z
LAST-MODIFIED:20230510T045908Z
UID:4414-1667260800-1667260800@kalka.darshanacademy.org
SUMMARY:HARYANA DAY
DESCRIPTION:
URL:https://kalka.darshanacademy.org/event/haryana-day/
CATEGORIES:HOLIDAY
END:VEVENT
END:VCALENDAR