BEGIN:VCALENDAR
VERSION:2.0
PRODID:-//DA Kalka - ECPv6.0.12//NONSGML v1.0//EN
CALSCALE:GREGORIAN
METHOD:PUBLISH
X-ORIGINAL-URL:https://kalka.darshanacademy.org
X-WR-CALDESC:Events for DA Kalka
REFRESH-INTERVAL;VALUE=DURATION:PT1H
X-Robots-Tag:noindex
X-PUBLISHED-TTL:PT1H
BEGIN:VTIMEZONE
TZID:America/Los_Angeles
BEGIN:DAYLIGHT
TZOFFSETFROM:-0800
TZOFFSETTO:-0700
TZNAME:PDT
DTSTART:20230312T100000
END:DAYLIGHT
BEGIN:STANDARD
TZOFFSETFROM:-0700
TZOFFSETTO:-0800
TZNAME:PST
DTSTART:20231105T090000
END:STANDARD
BEGIN:DAYLIGHT
TZOFFSETFROM:-0800
TZOFFSETTO:-0700
TZNAME:PDT
DTSTART:20240310T100000
END:DAYLIGHT
BEGIN:STANDARD
TZOFFSETFROM:-0700
TZOFFSETTO:-0800
TZNAME:PST
DTSTART:20241103T090000
END:STANDARD
END:VTIMEZONE
BEGIN:VEVENT
DTSTART;TZID=America/Los_Angeles:20240306T000000
DTEND;TZID=America/Los_Angeles:20240318T000000
DTSTAMP:20260422T211201
CREATED:20230510T045946Z
LAST-MODIFIED:20230510T045946Z
UID:4443-1709683200-1710720000@kalka.darshanacademy.org
SUMMARY:ASSESSMENT - IV CLASSES (I-V) / TERM - II (VI-VIII)
DESCRIPTION:
URL:https://kalka.darshanacademy.org/event/assessment-iv-classes-i-v-term-ii-vi-viii/
CATEGORIES:EXAMINATION
END:VEVENT
BEGIN:VEVENT
DTSTART;TZID=America/Los_Angeles:20231202T000000
DTEND;TZID=America/Los_Angeles:20231209T000000
DTSTAMP:20260422T211201
CREATED:20230510T045920Z
LAST-MODIFIED:20230510T045920Z
UID:4424-1701475200-1702080000@kalka.darshanacademy.org
SUMMARY:ASSESSMENT - III CLASSES (I-V) / 2ND PERIODIC TEST (VI-VIII)
DESCRIPTION:
URL:https://kalka.darshanacademy.org/event/assessment-iii-classes-i-v-2nd-periodic-test-vi-viii/
CATEGORIES:EXAMINATION
END:VEVENT
BEGIN:VEVENT
DTSTART;TZID=America/Los_Angeles:20230909T000000
DTEND;TZID=America/Los_Angeles:20230922T000000
DTSTAMP:20260422T211201
CREATED:20230510T045752Z
LAST-MODIFIED:20230510T045752Z
UID:4396-1694217600-1695340800@kalka.darshanacademy.org
SUMMARY:ASSESSMENT - II ( I-V) / TERM - I (VI-VIII)
DESCRIPTION:
URL:https://kalka.darshanacademy.org/event/assessment-ii-i-v-term-i-vi-viii/
CATEGORIES:EXAMINATION
END:VEVENT
BEGIN:VEVENT
DTSTART;TZID=America/Los_Angeles:20230708T000000
DTEND;TZID=America/Los_Angeles:20230715T000000
DTSTAMP:20260422T211201
CREATED:20230510T045729Z
LAST-MODIFIED:20230510T045729Z
UID:4378-1688774400-1689379200@kalka.darshanacademy.org
SUMMARY:ASSESSMENT - I ( I-V) / 1ST PERIODIC TEST (VI-VIII)
DESCRIPTION:
URL:https://kalka.darshanacademy.org/event/assessment-i-i-v-1st-periodic-test-vi-viii/
CATEGORIES:EXAMINATION
END:VEVENT
END:VCALENDAR