BEGIN:VCALENDAR
VERSION:2.0
PRODID:-//DA Kalka - ECPv6.0.12//NONSGML v1.0//EN
CALSCALE:GREGORIAN
METHOD:PUBLISH
X-ORIGINAL-URL:https://kalka.darshanacademy.org
X-WR-CALDESC:Events for DA Kalka
REFRESH-INTERVAL;VALUE=DURATION:PT1H
X-Robots-Tag:noindex
X-PUBLISHED-TTL:PT1H
BEGIN:VTIMEZONE
TZID:America/Los_Angeles
BEGIN:DAYLIGHT
TZOFFSETFROM:-0800
TZOFFSETTO:-0700
TZNAME:PDT
DTSTART:20230312T100000
END:DAYLIGHT
BEGIN:STANDARD
TZOFFSETFROM:-0700
TZOFFSETTO:-0800
TZNAME:PST
DTSTART:20231105T090000
END:STANDARD
BEGIN:DAYLIGHT
TZOFFSETFROM:-0800
TZOFFSETTO:-0700
TZNAME:PDT
DTSTART:20240310T100000
END:DAYLIGHT
BEGIN:STANDARD
TZOFFSETFROM:-0700
TZOFFSETTO:-0800
TZNAME:PST
DTSTART:20241103T090000
END:STANDARD
END:VTIMEZONE
BEGIN:VEVENT
DTSTART;TZID=America/Los_Angeles:20240222T000000
DTEND;TZID=America/Los_Angeles:20240222T000000
DTSTAMP:20260421T003134
CREATED:20230510T045939Z
LAST-MODIFIED:20230510T045939Z
UID:4441-1708560000-1708560000@kalka.darshanacademy.org
SUMMARY:RAINBOW PARTY ( PRE-PRIMARY)
DESCRIPTION:
URL:https://kalka.darshanacademy.org/event/rainbow-party-pre-primary/
CATEGORIES:EVENT
END:VEVENT
BEGIN:VEVENT
DTSTART;TZID=America/Los_Angeles:20240201T000000
DTEND;TZID=America/Los_Angeles:20240207T000000
DTSTAMP:20260421T003134
CREATED:20230510T045939Z
LAST-MODIFIED:20230510T045939Z
UID:4439-1706745600-1707264000@kalka.darshanacademy.org
SUMMARY:KIRPAL WEEK OF LOVING KINDNESS
DESCRIPTION:
URL:https://kalka.darshanacademy.org/event/kirpal-week-of-loving-kindness/
CATEGORIES:EVENT
END:VEVENT
BEGIN:VEVENT
DTSTART;TZID=America/Los_Angeles:20240125T000000
DTEND;TZID=America/Los_Angeles:20240125T000000
DTSTAMP:20260421T003134
CREATED:20230510T045939Z
LAST-MODIFIED:20230510T045939Z
UID:4437-1706140800-1706140800@kalka.darshanacademy.org
SUMMARY:REPUBLIC DAY CELEBRATIONS (PRE-PRIMARY & I-VIII)
DESCRIPTION:
URL:https://kalka.darshanacademy.org/event/republic-day-celebrations-pre-primary-i-viii/
CATEGORIES:EVENT
END:VEVENT
BEGIN:VEVENT
DTSTART;TZID=America/Los_Angeles:20240119T000000
DTEND;TZID=America/Los_Angeles:20240119T000000
DTSTAMP:20260421T003134
CREATED:20230510T045933Z
LAST-MODIFIED:20230510T045933Z
UID:4435-1705622400-1705622400@kalka.darshanacademy.org
SUMMARY:ALPHABET PARTY (PRE-PRIMARY)
DESCRIPTION:
URL:https://kalka.darshanacademy.org/event/alphabet-party-pre-primary/
CATEGORIES:EVENT
END:VEVENT
BEGIN:VEVENT
DTSTART;TZID=America/Los_Angeles:20240119T000000
DTEND;TZID=America/Los_Angeles:20240119T000000
DTSTAMP:20260421T003134
CREATED:20230510T045933Z
LAST-MODIFIED:20230510T045933Z
UID:4436-1705622400-1705622400@kalka.darshanacademy.org
SUMMARY:ANNUAL PROJECT WEEK EXHIBITION (I-VIII)
DESCRIPTION:
URL:https://kalka.darshanacademy.org/event/annual-project-week-exhibition-i-viii/
CATEGORIES:EVENT
END:VEVENT
BEGIN:VEVENT
DTSTART;TZID=America/Los_Angeles:20231222T000000
DTEND;TZID=America/Los_Angeles:20231222T000000
DTSTAMP:20260421T003134
CREATED:20230510T045925Z
LAST-MODIFIED:20230510T045925Z
UID:4427-1703203200-1703203200@kalka.darshanacademy.org
SUMMARY:CHRISTMAS CELEBRATION (PRE-PRIMARY & I-VIII)
DESCRIPTION:
URL:https://kalka.darshanacademy.org/event/christmas-celebration-pre-primary-i-viii/
CATEGORIES:EVENT
END:VEVENT
BEGIN:VEVENT
DTSTART;TZID=America/Los_Angeles:20231220T000000
DTEND;TZID=America/Los_Angeles:20231220T000000
DTSTAMP:20260421T003134
CREATED:20230510T045920Z
LAST-MODIFIED:20230510T045920Z
UID:4426-1703030400-1703030400@kalka.darshanacademy.org
SUMMARY:POETRY FEST (PRE-PRIMARY & I-VIII)
DESCRIPTION:
URL:https://kalka.darshanacademy.org/event/poetry-fest-pre-primary-i-viii/
CATEGORIES:EVENT
END:VEVENT
BEGIN:VEVENT
DTSTART;TZID=America/Los_Angeles:20231114T000000
DTEND;TZID=America/Los_Angeles:20231114T000000
DTSTAMP:20260421T003134
CREATED:20230510T045910Z
LAST-MODIFIED:20230510T045910Z
UID:4417-1699920000-1699920000@kalka.darshanacademy.org
SUMMARY:CHILDREN'S DAY CELEBRATION/ ANNUAL SPORTS DAY (PRE-PRIMARY & I-VIII)
DESCRIPTION:
URL:https://kalka.darshanacademy.org/event/childrens-day-celebration-annual-sports-day-pre-primary-i-viii/
CATEGORIES:EVENT
END:VEVENT
BEGIN:VEVENT
DTSTART;TZID=America/Los_Angeles:20231110T000000
DTEND;TZID=America/Los_Angeles:20231110T000000
DTSTAMP:20260421T003134
CREATED:20230510T045908Z
LAST-MODIFIED:20230510T045908Z
UID:4415-1699574400-1699574400@kalka.darshanacademy.org
SUMMARY:DIWALI CELEBRATIONS (PRE-PRIMARY & I-VIII)
DESCRIPTION:
URL:https://kalka.darshanacademy.org/event/diwali-celebrations-pre-primary-i-viii/
CATEGORIES:EVENT
END:VEVENT
BEGIN:VEVENT
DTSTART;TZID=America/Los_Angeles:20231031T000000
DTEND;TZID=America/Los_Angeles:20231031T000000
DTSTAMP:20260421T003134
CREATED:20230510T045908Z
LAST-MODIFIED:20230510T045908Z
UID:4413-1698710400-1698710400@kalka.darshanacademy.org
SUMMARY:HARYANA DAY CELEBRATION (PRE-PRIMARY & I-VIII)
DESCRIPTION:
URL:https://kalka.darshanacademy.org/event/haryana-day-celebration-pre-primary-i-viii/
CATEGORIES:EVENT
END:VEVENT
BEGIN:VEVENT
DTSTART;TZID=America/Los_Angeles:20231021T000000
DTEND;TZID=America/Los_Angeles:20231021T000000
DTSTAMP:20260421T003134
CREATED:20230510T045852Z
LAST-MODIFIED:20230510T045852Z
UID:4409-1697846400-1697846400@kalka.darshanacademy.org
SUMMARY:DUSSHERA CELEBRATION (PRE-PRIMARY & I-VIII)
DESCRIPTION:
URL:https://kalka.darshanacademy.org/event/dusshera-celebration-pre-primary-i-viii/
CATEGORIES:EVENT
END:VEVENT
BEGIN:VEVENT
DTSTART;TZID=America/Los_Angeles:20230922T000000
DTEND;TZID=America/Los_Angeles:20230922T000000
DTSTAMP:20260421T003134
CREATED:20230510T045803Z
LAST-MODIFIED:20230510T045803Z
UID:4400-1695340800-1695340800@kalka.darshanacademy.org
SUMMARY:JUNGLE PARTY (PRE-PRIMARY)
DESCRIPTION:
URL:https://kalka.darshanacademy.org/event/jungle-party-pre-primary/
CATEGORIES:EVENT
END:VEVENT
BEGIN:VEVENT
DTSTART;TZID=America/Los_Angeles:20230920T000000
DTEND;TZID=America/Los_Angeles:20230926T000000
DTSTAMP:20260421T003134
CREATED:20230510T045803Z
LAST-MODIFIED:20230510T045803Z
UID:4399-1695168000-1695686400@kalka.darshanacademy.org
SUMMARY:RAJINDER WEEK OF MEDITATION AND PEACE
DESCRIPTION:
URL:https://kalka.darshanacademy.org/event/rajinder-week-of-meditation-and-peace/
CATEGORIES:EVENT
END:VEVENT
BEGIN:VEVENT
DTSTART;TZID=America/Los_Angeles:20230908T000000
DTEND;TZID=America/Los_Angeles:20230914T000000
DTSTAMP:20260421T003134
CREATED:20230510T045752Z
LAST-MODIFIED:20230510T045752Z
UID:4395-1694131200-1694649600@kalka.darshanacademy.org
SUMMARY:DARSHAN WEEK OF LOVE AND SERVICE
DESCRIPTION:
URL:https://kalka.darshanacademy.org/event/darshan-week-of-love-and-service/
CATEGORIES:EVENT
END:VEVENT
BEGIN:VEVENT
DTSTART;TZID=America/Los_Angeles:20230906T000000
DTEND;TZID=America/Los_Angeles:20230906T000000
DTSTAMP:20260421T003134
CREATED:20230510T045752Z
LAST-MODIFIED:20230510T045752Z
UID:4393-1693958400-1693958400@kalka.darshanacademy.org
SUMMARY:JANMASHTMI CELEBRATIONS (PRE-PRIMARY & I-VIII)
DESCRIPTION:
URL:https://kalka.darshanacademy.org/event/janmashtmi-celebrations-pre-primary-i-viii/
CATEGORIES:EVENT
END:VEVENT
BEGIN:VEVENT
DTSTART;TZID=America/Los_Angeles:20230905T000000
DTEND;TZID=America/Los_Angeles:20230905T000000
DTSTAMP:20260421T003134
CREATED:20230510T045752Z
LAST-MODIFIED:20230510T045752Z
UID:4392-1693872000-1693872000@kalka.darshanacademy.org
SUMMARY:TEACHER'S DAY
DESCRIPTION:
URL:https://kalka.darshanacademy.org/event/teachers-day/
CATEGORIES:EVENT
END:VEVENT
BEGIN:VEVENT
DTSTART;TZID=America/Los_Angeles:20230818T000000
DTEND;TZID=America/Los_Angeles:20230818T000000
DTSTAMP:20260421T003134
CREATED:20230510T045736Z
LAST-MODIFIED:20230510T045736Z
UID:4386-1692316800-1692316800@kalka.darshanacademy.org
SUMMARY:TEEJ CELEBRATION (PRE-PRIMARY & I-VIII)
DESCRIPTION:
URL:https://kalka.darshanacademy.org/event/teej-celebration-pre-primary-i-viii/
CATEGORIES:EVENT
END:VEVENT
BEGIN:VEVENT
DTSTART;TZID=America/Los_Angeles:20230814T000000
DTEND;TZID=America/Los_Angeles:20230814T000000
DTSTAMP:20260421T003134
CREATED:20230510T045736Z
LAST-MODIFIED:20230510T045736Z
UID:4384-1691971200-1691971200@kalka.darshanacademy.org
SUMMARY:INDEPENDENCE  DAY CELEBRATIONS (PRE-PRIMARY & I-VIII)
DESCRIPTION:
URL:https://kalka.darshanacademy.org/event/independence-day-celebrations-pre-primary-i-viii/
CATEGORIES:EVENT
END:VEVENT
BEGIN:VEVENT
DTSTART;TZID=America/Los_Angeles:20230718T000000
DTEND;TZID=America/Los_Angeles:20230718T000000
DTSTAMP:20260421T003134
CREATED:20230510T045729Z
LAST-MODIFIED:20230510T045729Z
UID:4379-1689638400-1689638400@kalka.darshanacademy.org
SUMMARY:FIELD TRIP
DESCRIPTION:
URL:https://kalka.darshanacademy.org/event/field-trip/
CATEGORIES:EVENT
END:VEVENT
BEGIN:VEVENT
DTSTART;TZID=America/Los_Angeles:20230704T000000
DTEND;TZID=America/Los_Angeles:20230704T000000
DTSTAMP:20260421T003134
CREATED:20230510T045724Z
LAST-MODIFIED:20230510T045724Z
UID:4376-1688428800-1688428800@kalka.darshanacademy.org
SUMMARY:GREEN COLOUR DAY CELEBRATION
DESCRIPTION:
URL:https://kalka.darshanacademy.org/event/green-colour-day-celebration/
CATEGORIES:EVENT
END:VEVENT
BEGIN:VEVENT
DTSTART;TZID=America/Los_Angeles:20230701T000000
DTEND;TZID=America/Los_Angeles:20230707T000000
DTSTAMP:20260421T003134
CREATED:20230510T045724Z
LAST-MODIFIED:20230510T045724Z
UID:4375-1688169600-1688688000@kalka.darshanacademy.org
SUMMARY:VAN-MAHOTSAV WEEK (PRE-PRIMARY & I-VIII)
DESCRIPTION:
URL:https://kalka.darshanacademy.org/event/van-mahotsav-week-pre-primary-i-viii/
CATEGORIES:EVENT
END:VEVENT
BEGIN:VEVENT
DTSTART;TZID=America/Los_Angeles:20230701T000000
DTEND;TZID=America/Los_Angeles:20230701T000000
DTSTAMP:20260421T003134
CREATED:20230510T045724Z
LAST-MODIFIED:20230510T045724Z
UID:4374-1688169600-1688169600@kalka.darshanacademy.org
SUMMARY:INTERNAL MEDITATION CAMP FOR TEACHERS
DESCRIPTION:
URL:https://kalka.darshanacademy.org/event/internal-meditation-camp-for-teachers/
CATEGORIES:EVENT
END:VEVENT
BEGIN:VEVENT
DTSTART;TZID=America/Los_Angeles:20230621T000000
DTEND;TZID=America/Los_Angeles:20230621T000000
DTSTAMP:20260421T003134
CREATED:20230510T045354Z
LAST-MODIFIED:20230510T045354Z
UID:4371-1687305600-1687305600@kalka.darshanacademy.org
SUMMARY:INTERNATIONAL YOGA DAY (I-VIII)
DESCRIPTION:
URL:https://kalka.darshanacademy.org/event/international-yoga-day-i-viii/
CATEGORIES:EVENT
END:VEVENT
BEGIN:VEVENT
DTSTART;TZID=America/Los_Angeles:20230525T000000
DTEND;TZID=America/Los_Angeles:20230525T000000
DTSTAMP:20260421T003134
CREATED:20230510T045338Z
LAST-MODIFIED:20230510T045338Z
UID:4366-1684972800-1684972800@kalka.darshanacademy.org
SUMMARY:PINK COLOUR DAY (PRE-PRIMARY)
DESCRIPTION:
URL:https://kalka.darshanacademy.org/event/pink-colour-day-pre-primary/
CATEGORIES:EVENT
END:VEVENT
BEGIN:VEVENT
DTSTART;TZID=America/Los_Angeles:20230520T000000
DTEND;TZID=America/Los_Angeles:20230520T000000
DTSTAMP:20260421T003134
CREATED:20230510T045338Z
LAST-MODIFIED:20230510T045338Z
UID:4363-1684540800-1684540800@kalka.darshanacademy.org
SUMMARY:CREATIVE WRINTING (V-VIII)
DESCRIPTION:
URL:https://kalka.darshanacademy.org/event/creative-wrinting-v-viii/
CATEGORIES:EVENT
END:VEVENT
BEGIN:VEVENT
DTSTART;TZID=America/Los_Angeles:20230510T000000
DTEND;TZID=America/Los_Angeles:20230510T000000
DTSTAMP:20260421T003134
CREATED:20230510T045327Z
LAST-MODIFIED:20230510T045327Z
UID:4361-1683676800-1683676800@kalka.darshanacademy.org
SUMMARY:INVESTITURE CEREMONY (I-VIII)
DESCRIPTION:
URL:https://kalka.darshanacademy.org/event/investiture-ceremony-i-viii/
CATEGORIES:EVENT
END:VEVENT
BEGIN:VEVENT
DTSTART;TZID=America/Los_Angeles:20230501T000000
DTEND;TZID=America/Los_Angeles:20230501T000000
DTSTAMP:20260421T003134
CREATED:20230510T045327Z
LAST-MODIFIED:20230510T045327Z
UID:4358-1682899200-1682899200@kalka.darshanacademy.org
SUMMARY:LABOUR DAY (V-VIII)
DESCRIPTION:
URL:https://kalka.darshanacademy.org/event/labour-day-v-viii/
CATEGORIES:EVENT
END:VEVENT
BEGIN:VEVENT
DTSTART;TZID=America/Los_Angeles:20230425T000000
DTEND;TZID=America/Los_Angeles:20230425T000000
DTSTAMP:20260421T003134
CREATED:20230510T045327Z
LAST-MODIFIED:20230510T045327Z
UID:4357-1682380800-1682380800@kalka.darshanacademy.org
SUMMARY:BLUE COLOUR DAY (PRE-PRIMARY)
DESCRIPTION:
URL:https://kalka.darshanacademy.org/event/blue-colour-day-pre-primary/
CATEGORIES:EVENT
END:VEVENT
BEGIN:VEVENT
DTSTART;TZID=America/Los_Angeles:20230421T000000
DTEND;TZID=America/Los_Angeles:20230421T000000
DTSTAMP:20260421T003134
CREATED:20230510T044433Z
LAST-MODIFIED:20230510T044433Z
UID:4355-1682035200-1682035200@kalka.darshanacademy.org
SUMMARY:EARTH DAY (I-VIII)
DESCRIPTION:
URL:https://kalka.darshanacademy.org/event/earth-day-i-viii/
CATEGORIES:EVENT
END:VEVENT
BEGIN:VEVENT
DTSTART;TZID=America/Los_Angeles:20230413T000000
DTEND;TZID=America/Los_Angeles:20230413T000000
DTSTAMP:20260421T003134
CREATED:20230510T044410Z
LAST-MODIFIED:20230510T044410Z
UID:4351-1681344000-1681344000@kalka.darshanacademy.org
SUMMARY:VAISAKHI CELEBRATION/ DR. B.R.AMBEDKAR JAYANTI (ALL CLASSES)
DESCRIPTION:
URL:https://kalka.darshanacademy.org/event/vaisakhi-celebration-dr-b-r-ambedkar-jayanti-all-classes/
CATEGORIES:EVENT
END:VEVENT
END:VCALENDAR